BEGIN:VCALENDAR
VERSION:2.0
PRODID:-//AHSC zu Düsseldorf - ECPv6.15.20//NONSGML v1.0//EN
CALSCALE:GREGORIAN
METHOD:PUBLISH
X-WR-CALNAME:AHSC zu Düsseldorf
X-ORIGINAL-URL:https://ahsc-duesseldorf.eu
X-WR-CALDESC:Veranstaltungen für AHSC zu Düsseldorf
REFRESH-INTERVAL;VALUE=DURATION:PT1H
X-Robots-Tag:noindex
X-PUBLISHED-TTL:PT1H
BEGIN:VTIMEZONE
TZID:Europe/Berlin
BEGIN:DAYLIGHT
TZOFFSETFROM:+0100
TZOFFSETTO:+0200
TZNAME:CEST
DTSTART:20250330T010000
END:DAYLIGHT
BEGIN:STANDARD
TZOFFSETFROM:+0200
TZOFFSETTO:+0100
TZNAME:CET
DTSTART:20251026T010000
END:STANDARD
BEGIN:DAYLIGHT
TZOFFSETFROM:+0100
TZOFFSETTO:+0200
TZNAME:CEST
DTSTART:20260329T010000
END:DAYLIGHT
BEGIN:STANDARD
TZOFFSETFROM:+0200
TZOFFSETTO:+0100
TZNAME:CET
DTSTART:20261025T010000
END:STANDARD
BEGIN:DAYLIGHT
TZOFFSETFROM:+0100
TZOFFSETTO:+0200
TZNAME:CEST
DTSTART:20270328T010000
END:DAYLIGHT
BEGIN:STANDARD
TZOFFSETFROM:+0200
TZOFFSETTO:+0100
TZNAME:CET
DTSTART:20271031T010000
END:STANDARD
END:VTIMEZONE
BEGIN:VEVENT
DTSTART;TZID=Europe/Berlin:20261107T113000
DTEND;TZID=Europe/Berlin:20261107T150000
DTSTAMP:20260420T140455
CREATED:20260128T112115Z
LAST-MODIFIED:20260128T112122Z
UID:1456-1794051000-1794063600@ahsc-duesseldorf.eu
SUMMARY:Gemeinsamer Frühschoppen
DESCRIPTION:Gemeinsamer Frühschoppen der AHSC zu Düsseldorf und Essen
URL:https://ahsc-duesseldorf.eu/termin/gemeinsamer-fruehschoppen-2/
LOCATION:Brauerei im Füchschen\, Ratinger Str. 28\, Düsseldorf\, 40213
CATEGORIES:Frühschoppen
END:VEVENT
BEGIN:VEVENT
DTSTART;TZID=Europe/Berlin:20261121T183000
DTEND;TZID=Europe/Berlin:20261121T235900
DTSTAMP:20260420T140455
CREATED:20260214T120349Z
LAST-MODIFIED:20260215T181655Z
UID:1524-1795285800-1795305540@ahsc-duesseldorf.eu
SUMMARY:63. Rhein-Ruhr-Kommers 2026
DESCRIPTION:Am Samstag\, 21. November 2026\, findet der 63. Rhein-Ruhr-Kommers 2026 im historischen Kuppelsaal des Stadtgartens Essen Steele statt.
URL:https://ahsc-duesseldorf.eu/termin/63-rhein-ruhr-kommers-2026/
LOCATION:Kuppelsaal des Stadtgarten Essen-Steele\, Am Stadtgarten 1\, Essen\, NRW\, 45276
ORGANIZER;CN="Kurt Wolfgang Schmidt":MAILTO:kurtwolfgangschmidt@gmail.com
END:VEVENT
BEGIN:VEVENT
DTSTART;TZID=Europe/Berlin:20261124T130000
DTEND;TZID=Europe/Berlin:20261124T180000
DTSTAMP:20260420T140455
CREATED:20260128T135911Z
LAST-MODIFIED:20260129T170421Z
UID:1487-1795525200-1795543200@ahsc-duesseldorf.eu
SUMMARY:geplant: Gänseessen
DESCRIPTION:
URL:https://ahsc-duesseldorf.eu/termin/geplant-gaenseessen/
LOCATION:Frankenheim Brauereiausschank\, Wielandstr. 12-14\, Düsseldorf\, 40211
CATEGORIES:Gänseessen,Rauhe Ritter
END:VEVENT
END:VCALENDAR